BEGIN:VCALENDAR
VERSION:2.0
PRODID:-//OPEN·ORBI - ECPv5.16.4//NONSGML v1.0//EN
CALSCALE:GREGORIAN
METHOD:PUBLISH
X-ORIGINAL-URL:https://openorbi.com
X-WR-CALDESC:Events for OPEN·ORBI
REFRESH-INTERVAL;VALUE=DURATION:PT1H
X-Robots-Tag:noindex
X-PUBLISHED-TTL:PT1H
BEGIN:VTIMEZONE
TZID:UTC
BEGIN:STANDARD
TZOFFSETFROM:+0000
TZOFFSETTO:+0000
TZNAME:UTC
DTSTART:20220101T000000
END:STANDARD
END:VTIMEZONE
BEGIN:VEVENT
DTSTART;VALUE=DATE:20220520
DTEND;VALUE=DATE:20220523
DTSTAMP:20260423T100643
CREATED:20220430T134401Z
LAST-MODIFIED:20220502T163521Z
UID:1440-1653004800-1653263999@openorbi.com
SUMMARY:Aprende a Construir un Domo Geodésico
DESCRIPTION:Unlock the Power of AI Tools for Automation at OpenOrbiSeptember 28 – October 5\, 2025 | Lodares de Osma\, Spain Are you ready to supercharge your workflows and discover the latest in AI-powered automation — all while enjoying the peace and beauty of rural Spain? From September 28th to October 5th\, OpenOrbi invites digital nomads\, entrepreneurs\, and tech enthusiasts to a unique week-long event focused on AI Tools for Productivity and Automation. Just two hours from Madrid\, OpenOrbi is your perfect rural coworking and coliving space\, designed to help you work smarter and live better. What’s in StoreDuring this special week\, you’ll:✅ Learn from AI Experts — Daily workshops and talks by industry professionals sharing practical use cases and emerging trends.✅ Master Automation Tools — Hands-on sessions covering AI tools for content creation\, data analysis\, marketing\, and everyday business tasks.✅ Network & Collaborate — Meet like-minded people who are passionate about using AI to work more efficiently.✅ Get Work Done — Focused coworking time with high-speed Starlink internet and comfortable workspaces. When it’s time to unplug\, nature\, culture\, and adventure are just steps away. Explore\, Relax & ConnectOpenOrbi is nestled in the quiet countryside near El Burgo de Osma\, surrounded by forests\, hills\, and charming historical sites. Between sessions\, you can join optional activities like: Guided nature walksWine tasting toursYoga and mindfulness sessionsStargazing under clear rural skiesVisits to local villages and castlesHiking in Cañón del Río Lobos Natural ParkWhether you want to join every group activity or take time for yourself\, you’ll have the freedom to shape your stay. Stay in ComfortChoose your ideal accommodation: cozy shared bungalows\, shared domes\, or private domes — each with a kitchen\, bathroom\, and panoramic views. A community car is available for quick trips to nearby towns for local shopping\, tapas\, and cultural experiences. A Taste of Local LifeAutumn is the perfect time to enjoy our region’s culinary delights\, including fresh mushrooms\, local wines\, and traditional Castilian dishes. Discover authentic Spanish flavors right in the heart of Soria. Join Us This Fall!Whether you’re an AI enthusiast\, a freelancer\, or a remote team member looking to boost your productivity with cutting-edge tools\, this is your chance to connect\, learn\, and recharge in a beautiful rural setting. 👉 Spots are limited! Reserve your place for OpenOrbi’s AI Tools & Automation Week today. 						\n				\n				\n				\n					\n			\n						\n						Book your stay 🙂
URL:https://openorbi.com/evento/curso-domo-geodesico/
LOCATION:OPEN·ORBI\, Camino Lodares - Valdenarros Km. 1\,4\, Lodares de Osma\, Soria\, 42313\, España
ATTACH;FMTTYPE=image/jpeg:https://openorbi.com/wp-content/uploads/2022/04/Banner-Curso-Construccion-Domo-3.jpg
ORGANIZER;CN="Equipo%20de%20OPEN%C2%B7ORBI":MAILTO:info@openorbi.com
END:VEVENT
BEGIN:VEVENT
DTSTART;VALUE=DATE:20220605
DTEND;VALUE=DATE:20220620
DTSTAMP:20260423T100643
CREATED:20220527T171223Z
LAST-MODIFIED:20220527T231645Z
UID:1461-1654387200-1655683199@openorbi.com
SUMMARY:Crossover Co-Living Rural (Refugio & OPEN·ORBI)
DESCRIPTION:Unlock the Power of AI Tools for Automation at OpenOrbiSeptember 28 – October 5\, 2025 | Lodares de Osma\, Spain Are you ready to supercharge your workflows and discover the latest in AI-powered automation — all while enjoying the peace and beauty of rural Spain? From September 28th to October 5th\, OpenOrbi invites digital nomads\, entrepreneurs\, and tech enthusiasts to a unique week-long event focused on AI Tools for Productivity and Automation. Just two hours from Madrid\, OpenOrbi is your perfect rural coworking and coliving space\, designed to help you work smarter and live better. What’s in StoreDuring this special week\, you’ll:✅ Learn from AI Experts — Daily workshops and talks by industry professionals sharing practical use cases and emerging trends.✅ Master Automation Tools — Hands-on sessions covering AI tools for content creation\, data analysis\, marketing\, and everyday business tasks.✅ Network & Collaborate — Meet like-minded people who are passionate about using AI to work more efficiently.✅ Get Work Done — Focused coworking time with high-speed Starlink internet and comfortable workspaces. When it’s time to unplug\, nature\, culture\, and adventure are just steps away. Explore\, Relax & ConnectOpenOrbi is nestled in the quiet countryside near El Burgo de Osma\, surrounded by forests\, hills\, and charming historical sites. Between sessions\, you can join optional activities like: Guided nature walksWine tasting toursYoga and mindfulness sessionsStargazing under clear rural skiesVisits to local villages and castlesHiking in Cañón del Río Lobos Natural ParkWhether you want to join every group activity or take time for yourself\, you’ll have the freedom to shape your stay. Stay in ComfortChoose your ideal accommodation: cozy shared bungalows\, shared domes\, or private domes — each with a kitchen\, bathroom\, and panoramic views. A community car is available for quick trips to nearby towns for local shopping\, tapas\, and cultural experiences. A Taste of Local LifeAutumn is the perfect time to enjoy our region’s culinary delights\, including fresh mushrooms\, local wines\, and traditional Castilian dishes. Discover authentic Spanish flavors right in the heart of Soria. Join Us This Fall!Whether you’re an AI enthusiast\, a freelancer\, or a remote team member looking to boost your productivity with cutting-edge tools\, this is your chance to connect\, learn\, and recharge in a beautiful rural setting. 👉 Spots are limited! Reserve your place for OpenOrbi’s AI Tools & Automation Week today. 						\n				\n				\n				\n					\n			\n						\n						Book your stay 🙂
URL:https://openorbi.com/evento/crossover-coliving-refugio-openorbi/
LOCATION:Soria
ATTACH;FMTTYPE=image/jpeg:https://openorbi.com/wp-content/uploads/2022/05/Banner-Crossover-Coliving-Rural-OPENORBI-y-Refugio.jpeg
ORGANIZER;CN="Equipo%20de%20OPEN%C2%B7ORBI":MAILTO:info@openorbi.com
END:VEVENT
BEGIN:VEVENT
DTSTART;VALUE=DATE:20220716
DTEND;VALUE=DATE:20220717
DTSTAMP:20260423T100643
CREATED:20220627T160744Z
LAST-MODIFIED:20220627T163101Z
UID:1491-1657929600-1658015999@openorbi.com
SUMMARY:Montaje de Muebles con Pallets
DESCRIPTION:Unlock the Power of AI Tools for Automation at OpenOrbiSeptember 28 – October 5\, 2025 | Lodares de Osma\, Spain Are you ready to supercharge your workflows and discover the latest in AI-powered automation — all while enjoying the peace and beauty of rural Spain? From September 28th to October 5th\, OpenOrbi invites digital nomads\, entrepreneurs\, and tech enthusiasts to a unique week-long event focused on AI Tools for Productivity and Automation. Just two hours from Madrid\, OpenOrbi is your perfect rural coworking and coliving space\, designed to help you work smarter and live better. What’s in StoreDuring this special week\, you’ll:✅ Learn from AI Experts — Daily workshops and talks by industry professionals sharing practical use cases and emerging trends.✅ Master Automation Tools — Hands-on sessions covering AI tools for content creation\, data analysis\, marketing\, and everyday business tasks.✅ Network & Collaborate — Meet like-minded people who are passionate about using AI to work more efficiently.✅ Get Work Done — Focused coworking time with high-speed Starlink internet and comfortable workspaces. When it’s time to unplug\, nature\, culture\, and adventure are just steps away. Explore\, Relax & ConnectOpenOrbi is nestled in the quiet countryside near El Burgo de Osma\, surrounded by forests\, hills\, and charming historical sites. Between sessions\, you can join optional activities like: Guided nature walksWine tasting toursYoga and mindfulness sessionsStargazing under clear rural skiesVisits to local villages and castlesHiking in Cañón del Río Lobos Natural ParkWhether you want to join every group activity or take time for yourself\, you’ll have the freedom to shape your stay. Stay in ComfortChoose your ideal accommodation: cozy shared bungalows\, shared domes\, or private domes — each with a kitchen\, bathroom\, and panoramic views. A community car is available for quick trips to nearby towns for local shopping\, tapas\, and cultural experiences. A Taste of Local LifeAutumn is the perfect time to enjoy our region’s culinary delights\, including fresh mushrooms\, local wines\, and traditional Castilian dishes. Discover authentic Spanish flavors right in the heart of Soria. Join Us This Fall!Whether you’re an AI enthusiast\, a freelancer\, or a remote team member looking to boost your productivity with cutting-edge tools\, this is your chance to connect\, learn\, and recharge in a beautiful rural setting. 👉 Spots are limited! Reserve your place for OpenOrbi’s AI Tools & Automation Week today. 						\n				\n				\n				\n					\n			\n						\n						Book your stay 🙂
URL:https://openorbi.com/evento/montaje-muebles-pallets/
LOCATION:OPEN·ORBI\, Camino Lodares - Valdenarros Km. 1\,4\, Lodares de Osma\, Soria\, 42313\, España
ATTACH;FMTTYPE=image/jpeg:https://openorbi.com/wp-content/uploads/2022/06/Banner-Evento-Montaje-Muebles-con-Pallets-1.jpg
ORGANIZER;CN="Equipo%20de%20OPEN%C2%B7ORBI":MAILTO:info@openorbi.com
END:VEVENT
BEGIN:VEVENT
DTSTART;TZID=UTC:20220803T160000
DTEND;TZID=UTC:20220804T203000
DTSTAMP:20260423T100643
CREATED:20220718T170226Z
LAST-MODIFIED:20220718T174752Z
UID:1641-1659542400-1659645000@openorbi.com
SUMMARY:Soriathon - Hackathon Rural
DESCRIPTION:Unlock the Power of AI Tools for Automation at OpenOrbiSeptember 28 – October 5\, 2025 | Lodares de Osma\, Spain Are you ready to supercharge your workflows and discover the latest in AI-powered automation — all while enjoying the peace and beauty of rural Spain? From September 28th to October 5th\, OpenOrbi invites digital nomads\, entrepreneurs\, and tech enthusiasts to a unique week-long event focused on AI Tools for Productivity and Automation. Just two hours from Madrid\, OpenOrbi is your perfect rural coworking and coliving space\, designed to help you work smarter and live better. What’s in StoreDuring this special week\, you’ll:✅ Learn from AI Experts — Daily workshops and talks by industry professionals sharing practical use cases and emerging trends.✅ Master Automation Tools — Hands-on sessions covering AI tools for content creation\, data analysis\, marketing\, and everyday business tasks.✅ Network & Collaborate — Meet like-minded people who are passionate about using AI to work more efficiently.✅ Get Work Done — Focused coworking time with high-speed Starlink internet and comfortable workspaces. When it’s time to unplug\, nature\, culture\, and adventure are just steps away. Explore\, Relax & ConnectOpenOrbi is nestled in the quiet countryside near El Burgo de Osma\, surrounded by forests\, hills\, and charming historical sites. Between sessions\, you can join optional activities like: Guided nature walksWine tasting toursYoga and mindfulness sessionsStargazing under clear rural skiesVisits to local villages and castlesHiking in Cañón del Río Lobos Natural ParkWhether you want to join every group activity or take time for yourself\, you’ll have the freedom to shape your stay. Stay in ComfortChoose your ideal accommodation: cozy shared bungalows\, shared domes\, or private domes — each with a kitchen\, bathroom\, and panoramic views. A community car is available for quick trips to nearby towns for local shopping\, tapas\, and cultural experiences. A Taste of Local LifeAutumn is the perfect time to enjoy our region’s culinary delights\, including fresh mushrooms\, local wines\, and traditional Castilian dishes. Discover authentic Spanish flavors right in the heart of Soria. Join Us This Fall!Whether you’re an AI enthusiast\, a freelancer\, or a remote team member looking to boost your productivity with cutting-edge tools\, this is your chance to connect\, learn\, and recharge in a beautiful rural setting. 👉 Spots are limited! Reserve your place for OpenOrbi’s AI Tools & Automation Week today. 						\n				\n				\n				\n					\n			\n						\n						Book your stay 🙂
URL:https://openorbi.com/evento/soriathon-hackaton-rural/
LOCATION:Soria
ATTACH;FMTTYPE=image/jpeg:https://openorbi.com/wp-content/uploads/2022/07/Banner-Soriathon.jpg
ORGANIZER;CN="Equipo%20de%20OPEN%C2%B7ORBI":MAILTO:info@openorbi.com
END:VEVENT
BEGIN:VEVENT
DTSTART;VALUE=DATE:20231010
DTEND;VALUE=DATE:20231016
DTSTAMP:20260423T100643
CREATED:20231010T123051Z
LAST-MODIFIED:20231010T123919Z
UID:2309-1696896000-1697414399@openorbi.com
SUMMARY:Actividades October Wellness Week
DESCRIPTION:Unlock the Power of AI Tools for Automation at OpenOrbiSeptember 28 – October 5\, 2025 | Lodares de Osma\, Spain Are you ready to supercharge your workflows and discover the latest in AI-powered automation — all while enjoying the peace and beauty of rural Spain? From September 28th to October 5th\, OpenOrbi invites digital nomads\, entrepreneurs\, and tech enthusiasts to a unique week-long event focused on AI Tools for Productivity and Automation. Just two hours from Madrid\, OpenOrbi is your perfect rural coworking and coliving space\, designed to help you work smarter and live better. What’s in StoreDuring this special week\, you’ll:✅ Learn from AI Experts — Daily workshops and talks by industry professionals sharing practical use cases and emerging trends.✅ Master Automation Tools — Hands-on sessions covering AI tools for content creation\, data analysis\, marketing\, and everyday business tasks.✅ Network & Collaborate — Meet like-minded people who are passionate about using AI to work more efficiently.✅ Get Work Done — Focused coworking time with high-speed Starlink internet and comfortable workspaces. When it’s time to unplug\, nature\, culture\, and adventure are just steps away. Explore\, Relax & ConnectOpenOrbi is nestled in the quiet countryside near El Burgo de Osma\, surrounded by forests\, hills\, and charming historical sites. Between sessions\, you can join optional activities like: Guided nature walksWine tasting toursYoga and mindfulness sessionsStargazing under clear rural skiesVisits to local villages and castlesHiking in Cañón del Río Lobos Natural ParkWhether you want to join every group activity or take time for yourself\, you’ll have the freedom to shape your stay. Stay in ComfortChoose your ideal accommodation: cozy shared bungalows\, shared domes\, or private domes — each with a kitchen\, bathroom\, and panoramic views. A community car is available for quick trips to nearby towns for local shopping\, tapas\, and cultural experiences. A Taste of Local LifeAutumn is the perfect time to enjoy our region’s culinary delights\, including fresh mushrooms\, local wines\, and traditional Castilian dishes. Discover authentic Spanish flavors right in the heart of Soria. Join Us This Fall!Whether you’re an AI enthusiast\, a freelancer\, or a remote team member looking to boost your productivity with cutting-edge tools\, this is your chance to connect\, learn\, and recharge in a beautiful rural setting. 👉 Spots are limited! Reserve your place for OpenOrbi’s AI Tools & Automation Week today. 						\n				\n				\n				\n					\n			\n						\n						Book your stay 🙂
URL:https://openorbi.com/evento/actividades-october-wellness-week/
LOCATION:OPEN·ORBI\, Camino Lodares - Valdenarros Km. 1\,4\, Lodares de Osma\, Soria\, 42313\, España
ORGANIZER;CN="Equipo%20de%20OPEN%C2%B7ORBI":MAILTO:info@openorbi.com
END:VEVENT
BEGIN:VEVENT
DTSTART;TZID=UTC:20240920T190000
DTEND;TZID=UTC:20240920T230000
DTSTAMP:20260423T100643
CREATED:20240914T112111Z
LAST-MODIFIED:20240914T130035Z
UID:2827-1726858800-1726873200@openorbi.com
SUMMARY:YOGA\, WINE & STARS
DESCRIPTION:Unlock the Power of AI Tools for Automation at OpenOrbiSeptember 28 – October 5\, 2025 | Lodares de Osma\, Spain Are you ready to supercharge your workflows and discover the latest in AI-powered automation — all while enjoying the peace and beauty of rural Spain? From September 28th to October 5th\, OpenOrbi invites digital nomads\, entrepreneurs\, and tech enthusiasts to a unique week-long event focused on AI Tools for Productivity and Automation. Just two hours from Madrid\, OpenOrbi is your perfect rural coworking and coliving space\, designed to help you work smarter and live better. What’s in StoreDuring this special week\, you’ll:✅ Learn from AI Experts — Daily workshops and talks by industry professionals sharing practical use cases and emerging trends.✅ Master Automation Tools — Hands-on sessions covering AI tools for content creation\, data analysis\, marketing\, and everyday business tasks.✅ Network & Collaborate — Meet like-minded people who are passionate about using AI to work more efficiently.✅ Get Work Done — Focused coworking time with high-speed Starlink internet and comfortable workspaces. When it’s time to unplug\, nature\, culture\, and adventure are just steps away. Explore\, Relax & ConnectOpenOrbi is nestled in the quiet countryside near El Burgo de Osma\, surrounded by forests\, hills\, and charming historical sites. Between sessions\, you can join optional activities like: Guided nature walksWine tasting toursYoga and mindfulness sessionsStargazing under clear rural skiesVisits to local villages and castlesHiking in Cañón del Río Lobos Natural ParkWhether you want to join every group activity or take time for yourself\, you’ll have the freedom to shape your stay. Stay in ComfortChoose your ideal accommodation: cozy shared bungalows\, shared domes\, or private domes — each with a kitchen\, bathroom\, and panoramic views. A community car is available for quick trips to nearby towns for local shopping\, tapas\, and cultural experiences. A Taste of Local LifeAutumn is the perfect time to enjoy our region’s culinary delights\, including fresh mushrooms\, local wines\, and traditional Castilian dishes. Discover authentic Spanish flavors right in the heart of Soria. Join Us This Fall!Whether you’re an AI enthusiast\, a freelancer\, or a remote team member looking to boost your productivity with cutting-edge tools\, this is your chance to connect\, learn\, and recharge in a beautiful rural setting. 👉 Spots are limited! Reserve your place for OpenOrbi’s AI Tools & Automation Week today. 						\n				\n				\n				\n					\n			\n						\n						Book your stay 🙂
URL:https://openorbi.com/evento/yoga-wine-stars/
LOCATION:OPEN·ORBI\, Camino Lodares - Valdenarros Km. 1\,4\, Lodares de Osma\, Soria\, 42313\, España
ORGANIZER;CN="Equipo%20de%20OPEN%C2%B7ORBI":MAILTO:info@openorbi.com
END:VEVENT
BEGIN:VEVENT
DTSTART;VALUE=DATE:20241006
DTEND;VALUE=DATE:20241028
DTSTAMP:20260423T100643
CREATED:20240911T154105Z
LAST-MODIFIED:20240911T154807Z
UID:2806-1728172800-1730073599@openorbi.com
SUMMARY:Join Us for a 3-Week Coliving & Coworking Experience in Rural Spain – October 2024
DESCRIPTION:Unlock the Power of AI Tools for Automation at OpenOrbiSeptember 28 – October 5\, 2025 | Lodares de Osma\, Spain Are you ready to supercharge your workflows and discover the latest in AI-powered automation — all while enjoying the peace and beauty of rural Spain? From September 28th to October 5th\, OpenOrbi invites digital nomads\, entrepreneurs\, and tech enthusiasts to a unique week-long event focused on AI Tools for Productivity and Automation. Just two hours from Madrid\, OpenOrbi is your perfect rural coworking and coliving space\, designed to help you work smarter and live better. What’s in StoreDuring this special week\, you’ll:✅ Learn from AI Experts — Daily workshops and talks by industry professionals sharing practical use cases and emerging trends.✅ Master Automation Tools — Hands-on sessions covering AI tools for content creation\, data analysis\, marketing\, and everyday business tasks.✅ Network & Collaborate — Meet like-minded people who are passionate about using AI to work more efficiently.✅ Get Work Done — Focused coworking time with high-speed Starlink internet and comfortable workspaces. When it’s time to unplug\, nature\, culture\, and adventure are just steps away. Explore\, Relax & ConnectOpenOrbi is nestled in the quiet countryside near El Burgo de Osma\, surrounded by forests\, hills\, and charming historical sites. Between sessions\, you can join optional activities like: Guided nature walksWine tasting toursYoga and mindfulness sessionsStargazing under clear rural skiesVisits to local villages and castlesHiking in Cañón del Río Lobos Natural ParkWhether you want to join every group activity or take time for yourself\, you’ll have the freedom to shape your stay. Stay in ComfortChoose your ideal accommodation: cozy shared bungalows\, shared domes\, or private domes — each with a kitchen\, bathroom\, and panoramic views. A community car is available for quick trips to nearby towns for local shopping\, tapas\, and cultural experiences. A Taste of Local LifeAutumn is the perfect time to enjoy our region’s culinary delights\, including fresh mushrooms\, local wines\, and traditional Castilian dishes. Discover authentic Spanish flavors right in the heart of Soria. Join Us This Fall!Whether you’re an AI enthusiast\, a freelancer\, or a remote team member looking to boost your productivity with cutting-edge tools\, this is your chance to connect\, learn\, and recharge in a beautiful rural setting. 👉 Spots are limited! Reserve your place for OpenOrbi’s AI Tools & Automation Week today. 						\n				\n				\n				\n					\n			\n						\n						Book your stay 🙂
URL:https://openorbi.com/evento/join-us-for-a-3-week-coliving-coworking-experience-in-rural-spain-october-2024/
LOCATION:OPEN·ORBI\, Camino Lodares - Valdenarros Km. 1\,4\, Lodares de Osma\, Soria\, 42313\, España
ATTACH;FMTTYPE=image/jpeg:https://openorbi.com/wp-content/uploads/2024/07/miradomos-drone-0637-scaled.jpg
ORGANIZER;CN="Equipo%20de%20OPEN%C2%B7ORBI":MAILTO:info@openorbi.com
END:VEVENT
BEGIN:VEVENT
DTSTART;VALUE=DATE:20250501
DTEND;VALUE=DATE:20250509
DTSTAMP:20260423T100643
CREATED:20250619T135101Z
LAST-MODIFIED:20250619T141223Z
UID:3117-1746057600-1746748799@openorbi.com
SUMMARY:Join Us for a Week Coliving & Coworking Experience in Rural Spain – May 2025
DESCRIPTION:Unlock the Power of AI Tools for Automation at OpenOrbiSeptember 28 – October 5\, 2025 | Lodares de Osma\, Spain Are you ready to supercharge your workflows and discover the latest in AI-powered automation — all while enjoying the peace and beauty of rural Spain? From September 28th to October 5th\, OpenOrbi invites digital nomads\, entrepreneurs\, and tech enthusiasts to a unique week-long event focused on AI Tools for Productivity and Automation. Just two hours from Madrid\, OpenOrbi is your perfect rural coworking and coliving space\, designed to help you work smarter and live better. What’s in StoreDuring this special week\, you’ll:✅ Learn from AI Experts — Daily workshops and talks by industry professionals sharing practical use cases and emerging trends.✅ Master Automation Tools — Hands-on sessions covering AI tools for content creation\, data analysis\, marketing\, and everyday business tasks.✅ Network & Collaborate — Meet like-minded people who are passionate about using AI to work more efficiently.✅ Get Work Done — Focused coworking time with high-speed Starlink internet and comfortable workspaces. When it’s time to unplug\, nature\, culture\, and adventure are just steps away. Explore\, Relax & ConnectOpenOrbi is nestled in the quiet countryside near El Burgo de Osma\, surrounded by forests\, hills\, and charming historical sites. Between sessions\, you can join optional activities like: Guided nature walksWine tasting toursYoga and mindfulness sessionsStargazing under clear rural skiesVisits to local villages and castlesHiking in Cañón del Río Lobos Natural ParkWhether you want to join every group activity or take time for yourself\, you’ll have the freedom to shape your stay. Stay in ComfortChoose your ideal accommodation: cozy shared bungalows\, shared domes\, or private domes — each with a kitchen\, bathroom\, and panoramic views. A community car is available for quick trips to nearby towns for local shopping\, tapas\, and cultural experiences. A Taste of Local LifeAutumn is the perfect time to enjoy our region’s culinary delights\, including fresh mushrooms\, local wines\, and traditional Castilian dishes. Discover authentic Spanish flavors right in the heart of Soria. Join Us This Fall!Whether you’re an AI enthusiast\, a freelancer\, or a remote team member looking to boost your productivity with cutting-edge tools\, this is your chance to connect\, learn\, and recharge in a beautiful rural setting. 👉 Spots are limited! Reserve your place for OpenOrbi’s AI Tools & Automation Week today. 						\n				\n				\n				\n					\n			\n						\n						Book your stay 🙂
URL:https://openorbi.com/evento/join-us-for-a-3-week-coliving-coworking-experience-in-rural-spain-may-2025/
LOCATION:OPEN·ORBI\, Camino Lodares - Valdenarros Km. 1\,4\, Lodares de Osma\, Soria\, 42313\, España
ATTACH;FMTTYPE=image/jpeg:https://openorbi.com/wp-content/uploads/2024/08/WhatsApp-Image-2023-05-25-at-11.56.56.jpeg
ORGANIZER;CN="Equipo%20de%20OPEN%C2%B7ORBI":MAILTO:info@openorbi.com
END:VEVENT
BEGIN:VEVENT
DTSTART;VALUE=DATE:20250928
DTEND;VALUE=DATE:20251006
DTSTAMP:20260423T100643
CREATED:20250619T140004Z
LAST-MODIFIED:20250619T141054Z
UID:3125-1759017600-1759708799@openorbi.com
SUMMARY:Join Us for a Week Coliving & Coworking Experience in Rural Spain – September / October 2025
DESCRIPTION:Unlock the Power of AI Tools for Automation at OpenOrbiSeptember 28 – October 5\, 2025 | Lodares de Osma\, Spain Are you ready to supercharge your workflows and discover the latest in AI-powered automation — all while enjoying the peace and beauty of rural Spain? From September 28th to October 5th\, OpenOrbi invites digital nomads\, entrepreneurs\, and tech enthusiasts to a unique week-long event focused on AI Tools for Productivity and Automation. Just two hours from Madrid\, OpenOrbi is your perfect rural coworking and coliving space\, designed to help you work smarter and live better. What’s in StoreDuring this special week\, you’ll:✅ Learn from AI Experts — Daily workshops and talks by industry professionals sharing practical use cases and emerging trends.✅ Master Automation Tools — Hands-on sessions covering AI tools for content creation\, data analysis\, marketing\, and everyday business tasks.✅ Network & Collaborate — Meet like-minded people who are passionate about using AI to work more efficiently.✅ Get Work Done — Focused coworking time with high-speed Starlink internet and comfortable workspaces. When it’s time to unplug\, nature\, culture\, and adventure are just steps away. Explore\, Relax & ConnectOpenOrbi is nestled in the quiet countryside near El Burgo de Osma\, surrounded by forests\, hills\, and charming historical sites. Between sessions\, you can join optional activities like: Guided nature walksWine tasting toursYoga and mindfulness sessionsStargazing under clear rural skiesVisits to local villages and castlesHiking in Cañón del Río Lobos Natural ParkWhether you want to join every group activity or take time for yourself\, you’ll have the freedom to shape your stay. Stay in ComfortChoose your ideal accommodation: cozy shared bungalows\, shared domes\, or private domes — each with a kitchen\, bathroom\, and panoramic views. A community car is available for quick trips to nearby towns for local shopping\, tapas\, and cultural experiences. A Taste of Local LifeAutumn is the perfect time to enjoy our region’s culinary delights\, including fresh mushrooms\, local wines\, and traditional Castilian dishes. Discover authentic Spanish flavors right in the heart of Soria. Join Us This Fall!Whether you’re an AI enthusiast\, a freelancer\, or a remote team member looking to boost your productivity with cutting-edge tools\, this is your chance to connect\, learn\, and recharge in a beautiful rural setting. 👉 Spots are limited! Reserve your place for OpenOrbi’s AI Tools & Automation Week today. 						\n				\n				\n				\n					\n			\n						\n						Book your stay 🙂
URL:https://openorbi.com/evento/join-us-for-a-week-coliving-coworking-experience-in-rural-spain-sept-oct-2025/
LOCATION:OPEN·ORBI\, Camino Lodares - Valdenarros Km. 1\,4\, Lodares de Osma\, Soria\, 42313\, España
ATTACH;FMTTYPE=image/jpeg:https://openorbi.com/wp-content/uploads/2024/07/miradomos-drone-0667-scaled.jpg
ORGANIZER;CN="Equipo%20de%20OPEN%C2%B7ORBI":MAILTO:info@openorbi.com
END:VEVENT
END:VCALENDAR